BEGIN:VCALENDAR
PRODID:-//AT Content Types//AT Event//EN
VERSION:2.0
METHOD:PUBLISH
BEGIN:VEVENT
DTSTAMP:20260424T231122Z
CREATED:20080304T195425Z
UID:ATEvent-505dad9989a37528fb21e53200a0559c
LAST-MODIFIED:20140928T015935Z
SUMMARY:43rd International Congress on Medieval Studies
DTSTART:20080508T130000Z
DTEND:20080511T055500Z
LOCATION:Kalamazoo\, MI
CATEGORIES:congress
CLASS:PUBLIC
END:VEVENT
END:VCALENDAR
