BEGIN:VCALENDAR
PRODID:-//AT Content Types//AT Event//EN
VERSION:2.0
METHOD:PUBLISH
BEGIN:VEVENT
DTSTAMP:20260425T180243Z
CREATED:20210401T201637Z
UID:ATEvent-cfa2ae44f7644246acaf16a924a91343
LAST-MODIFIED:20210506T195325Z
SUMMARY:55th International Congress on Medieval Studies
DTSTART:20210507T130000Z
DTEND:20210510T170000Z
CATEGORIES:congress
CLASS:PUBLIC
END:VEVENT
END:VCALENDAR
