BEGIN:VCALENDAR
PRODID:-//AT Content Types//AT Event//EN
VERSION:1.0
BEGIN:VEVENT
DTSTART:20080910T130000Z
DTEND:20080913T220000Z
DCREATED:20080815T211311Z
UID:ATEvent-8d9bb57743a750bc643b05f44acca92f
SEQUENCE:0
LAST-MODIFIED:20140928T015746Z
SUMMARY:International symposium on medieval predication in Geneva
DESCRIPTION:Colloque international sur la prédication médiévale à 
 Genève
LOCATION:University of Geneva
PRIORITY:3
TRANSP:0
END:VEVENT
END:VCALENDAR
