BEGIN:VCALENDAR
PRODID:-//AT Content Types//AT Event//EN
VERSION:1.0
BEGIN:VEVENT
DTSTART:20110407T144500Z
DTEND:20110407T220000Z
DCREATED:20110311T153432Z
UID:ATEvent-9edded7fafec036160d4a5d7f96cbf7c
SEQUENCE:0
LAST-MODIFIED:20140928T015346Z
SUMMARY:PRÉDICATIONS DE L’ANTIQUITÉ À L’ÉPOQUE MODERNE
LOCATION:Paris\, France
PRIORITY:3
TRANSP:0
END:VEVENT
END:VCALENDAR
