BEGIN:VCALENDAR
PRODID:-//AT Content Types//AT Event//EN
VERSION:2.0
METHOD:PUBLISH
BEGIN:VEVENT
DTSTAMP:20260422T215000Z
CREATED:20260421T164317Z
UID:ATEvent-6af89e9915b14cf8a236b8e6930d5501
LAST-MODIFIED:20260422T170137Z
SUMMARY:25th IMSSS Symposium
DTSTART:20260701T190000Z
DTEND:20260705T181500Z
DESCRIPTION:Collecting\, transmitting\, and (re)using sermons,\nHosted
  by Radboud University Nijmegen (NL)
LOCATION:Radboud University Nijmegen (NL)
CATEGORIES:symposium, top news
CONTACT:Shari Boodts\, shari.boodts@ru.nl
URL:https://www.ru.nl/en/about-us/events/25th-international-medieval-sermon-studies-symposium
CLASS:PUBLIC
END:VEVENT
END:VCALENDAR
