BEGIN:VCALENDAR
PRODID:-//AT Content Types//AT Event//EN
VERSION:2.0
METHOD:PUBLISH
BEGIN:VEVENT
DTSTAMP:20260423T182356Z
CREATED:20070323T013828Z
UID:ATEvent-a310d6632a0c0ead8e3068610b99b23b
LAST-MODIFIED:20140928T020228Z
SUMMARY:16th Symposium
DTSTART:20080718T130000Z
DTEND:20080722T100000Z
DESCRIPTION:Preaching and Political Society from Late Antiquity to the
  End of the Middle Ages / Prédication et société politique depuis l
 ’Antiquité tardive jusqu’à la fin du Moyen Âge
LOCATION:Saint-Maurice (Valais\, Switzerland)
CATEGORIES:symposium
CLASS:PUBLIC
END:VEVENT
END:VCALENDAR
